BEGIN:VCALENDAR
VERSION:2.0
PRODID:-//Virginia Sexual &amp; Domestic Violence Action Alliance - ECPv6.15.20//NONSGML v1.0//EN
CALSCALE:GREGORIAN
METHOD:PUBLISH
X-WR-CALNAME:Virginia Sexual &amp; Domestic Violence Action Alliance
X-ORIGINAL-URL:https://vsdvalliance.org
X-WR-CALDESC:Events for Virginia Sexual &amp; Domestic Violence Action Alliance
REFRESH-INTERVAL;VALUE=DURATION:PT1H
X-Robots-Tag:noindex
X-PUBLISHED-TTL:PT1H
BEGIN:VTIMEZONE
TZID:America/New_York
BEGIN:DAYLIGHT
TZOFFSETFROM:-0500
TZOFFSETTO:-0400
TZNAME:EDT
DTSTART:20220313T070000
END:DAYLIGHT
BEGIN:STANDARD
TZOFFSETFROM:-0400
TZOFFSETTO:-0500
TZNAME:EST
DTSTART:20221106T060000
END:STANDARD
BEGIN:DAYLIGHT
TZOFFSETFROM:-0500
TZOFFSETTO:-0400
TZNAME:EDT
DTSTART:20230312T070000
END:DAYLIGHT
BEGIN:STANDARD
TZOFFSETFROM:-0400
TZOFFSETTO:-0500
TZNAME:EST
DTSTART:20231105T060000
END:STANDARD
BEGIN:DAYLIGHT
TZOFFSETFROM:-0500
TZOFFSETTO:-0400
TZNAME:EDT
DTSTART:20240310T070000
END:DAYLIGHT
BEGIN:STANDARD
TZOFFSETFROM:-0400
TZOFFSETTO:-0500
TZNAME:EST
DTSTART:20241103T060000
END:STANDARD
END:VTIMEZONE
BEGIN:VEVENT
DTSTART;TZID=America/New_York:20230907T100000
DTEND;TZID=America/New_York:20230907T160000
DTSTAMP:20260423T155058
CREATED:20230714T180750Z
LAST-MODIFIED:20230714T180750Z
UID:12005-1694080800-1694102400@vsdvalliance.org
SUMMARY:Principles of Primary Prevention
DESCRIPTION:Primary prevention strategies are designed to promote healthy behaviors and communities by shifting attitudes\, behaviors\, and norms that support and perpetuate the root causes of violence. This interactive training offers an introduction to the public health approach to primary prevention and will delve into key concepts underlying this work\, including risk and protective factors\, resilience\, and health promotion. This training highlights promising practices from the field and includes an overview of Fostering Community Resilience: Virginia’s Guidelines for the Primary Prevention of Sexual and Domestic Violence\, which is used by sexual and domestic violence agencies throughout Virginia and across the country. Participants will walk away with the tools to build their own primary prevention program. \nLunch is provided! \nPlease note that registration is from 9:30 – 10:00 with the training starting promptly at 10. Please leave yourself time to arrive and park so we can start on time. This is a long training so please feel free to dress comfortably. \n$60.00; discount code available for SDVA\, Professional\, Lifetime\, and Affiliate Members
URL:https://vsdvalliance.org/event/principles-of-primary-prevention/
LOCATION:Action Alliance\, 1413 W. Main Street\, Richmond\, VA\, 23220\, United States
ORGANIZER;CN="Prevention Team":MAILTO:prevention@vsdvalliance.org
END:VEVENT
BEGIN:VEVENT
DTSTART;TZID=America/New_York:20230907T123000
DTEND;TZID=America/New_York:20230907T133000
DTSTAMP:20260423T155058
CREATED:20221222T164140Z
LAST-MODIFIED:20221222T164309Z
UID:10222-1694089800-1694093400@vsdvalliance.org
SUMMARY:Outreach Otters Sandbox
DESCRIPTION:Join us to hear from others regarding all things outreach\, community engagement\, and get ideas from other agencies to take back and put in practice at your agency. \nAlso\, please make sure to put our last Outreach Otters for 2023 on your calendar! \n\nNovember 3\, 2023\n\nPlease register for this event at the link below! When you register\, you will be registered for all sessions but please feel free to attend what you can!
URL:https://vsdvalliance.org/event/outreach-otters-sandbox-3/
LOCATION:Virtual
CATEGORIES:Members
END:VEVENT
BEGIN:VEVENT
DTSTART;TZID=America/New_York:20230914T100000
DTEND;TZID=America/New_York:20230914T120000
DTSTAMP:20260423T155058
CREATED:20230207T174003Z
LAST-MODIFIED:20230207T174003Z
UID:10500-1694685600-1694692800@vsdvalliance.org
SUMMARY:State and Local Partners Meeting\, Virtual\, Northern Region
DESCRIPTION:This invitation is open to advocates\, preventionists\, and other partners serving survivors and/or supporting community education on healthy relationships. Our time together will be spent learning from each other and from speakers\, discussion on statewide issues\, resources\, etc. \nThe following sessions will be virtual from 10:00 – 12:00pm: September 14 (Northern Region)\, December 7 (statewide session) \nThe following sessions will be in person from 10:00 – 2:00 pm: October 5 (Tidewater Region) \n**IN PERSON LOCATION TBD**
URL:https://vsdvalliance.org/event/state-and-local-partners-meeting-virtual-northern-region/
LOCATION:Virtual- Zoom
CATEGORIES:General Events,Members,Training
ATTACH;FMTTYPE=image/png:https://vsdvalliance.org/wp-content/uploads/2023/02/SLP-2023-Schedule.png
END:VEVENT
BEGIN:VEVENT
DTSTART;TZID=America/New_York:20230919T093000
DTEND;TZID=America/New_York:20230920T160000
DTSTAMP:20260423T155058
CREATED:20230714T165104Z
LAST-MODIFIED:20230714T165202Z
UID:12003-1695115800-1695225600@vsdvalliance.org
SUMMARY:DO YOU Facilitator Training
DESCRIPTION:DO YOU: Building Youth Resilience Through Creative Expression is a primary prevention strategy to address teen dating violence\, sexual harassment\, and bullying by promoting positive youth development and healthy relationships. This training is designed for adult facilitators and teen mentors (who are peer facilitators) interested in implementing DO YOU in their communities. \nThis is an in-person training held at the Action Alliance training space from 10A to 4P on both days. There will be an hour lunch each day as well provided by the Action Alliance. Participation in the training will cost $350 (with a reduced fee for members) and includes 21 DO YOU zines\, a printed UnCurriculum Facilitation Guide\, a package of DO YOU Homework Folders\, and access to additional resources and technical assistance. \nThis is a long training. Please dress comfortably. Lunch and snacks will be provided on both days. \n$350.00; discount for Action Alliance Members available with discount code at checkout
URL:https://vsdvalliance.org/event/do-you-facilitator-training-3/
LOCATION:Action Alliance\, 1413 W. Main Street\, Richmond\, VA\, 23220\, United States
CATEGORIES:General Events,Members,Training
ORGANIZER;CN="Prevention Team":MAILTO:prevention@vsdvalliance.org
END:VEVENT
END:VCALENDAR