BEGIN:VCALENDAR
VERSION:2.0
PRODID:-//Virginia Sexual &amp; Domestic Violence Action Alliance - ECPv6.15.20//NONSGML v1.0//EN
CALSCALE:GREGORIAN
METHOD:PUBLISH
X-WR-CALNAME:Virginia Sexual &amp; Domestic Violence Action Alliance
X-ORIGINAL-URL:https://vsdvalliance.org
X-WR-CALDESC:Events for Virginia Sexual &amp; Domestic Violence Action Alliance
REFRESH-INTERVAL;VALUE=DURATION:PT1H
X-Robots-Tag:noindex
X-PUBLISHED-TTL:PT1H
BEGIN:VTIMEZONE
TZID:America/New_York
BEGIN:DAYLIGHT
TZOFFSETFROM:-0500
TZOFFSETTO:-0400
TZNAME:EDT
DTSTART:20220313T070000
END:DAYLIGHT
BEGIN:STANDARD
TZOFFSETFROM:-0400
TZOFFSETTO:-0500
TZNAME:EST
DTSTART:20221106T060000
END:STANDARD
BEGIN:DAYLIGHT
TZOFFSETFROM:-0500
TZOFFSETTO:-0400
TZNAME:EDT
DTSTART:20230312T070000
END:DAYLIGHT
BEGIN:STANDARD
TZOFFSETFROM:-0400
TZOFFSETTO:-0500
TZNAME:EST
DTSTART:20231105T060000
END:STANDARD
BEGIN:DAYLIGHT
TZOFFSETFROM:-0500
TZOFFSETTO:-0400
TZNAME:EDT
DTSTART:20240310T070000
END:DAYLIGHT
BEGIN:STANDARD
TZOFFSETFROM:-0400
TZOFFSETTO:-0500
TZNAME:EST
DTSTART:20241103T060000
END:STANDARD
END:VTIMEZONE
BEGIN:VEVENT
DTSTART;TZID=America/New_York:20231102T090000
DTEND;TZID=America/New_York:20231103T160000
DTSTAMP:20260421T055633
CREATED:20230828T182536Z
LAST-MODIFIED:20230830T161601Z
UID:12089-1698915600-1699027200@vsdvalliance.org
SUMMARY:Basic Advocacy Trainings\, Farmville
DESCRIPTION:You may register for one training or both. Please note that the Basic Sexual Violence Training does contain material from the Basic Domestic Violence Training session so it is recommended to take both but you don’t have to. Please dress comfortably as these are long trainings. We will break for lunch and attendees will be responsible for their own lunch. \nYou may register for one or both trainings at check out. \nTHIS TRAINING WILL BE HELD IN FARMVILLE\, Moton Museum\, 900 Griffin Blvd\, Farmville\, 23901 \nBasic Domestic Violence Advocacy Training \nParticipants will be able to identify and define domestic and intimate partner violence; learn the building blocks for a trauma informed response and broaden their understanding of risk assessment and safety planning. Participants will also learn about resources in VA for supporting survivors of domestic and intimate partner violence. \nThis training will be held on November 2 from 9:00 – 4:00 with a required Zoom follow up training on November 8 from 10:00 – 11:30 am. The zoom link will be sent to you after registration. \n\n\n\nBasic Sexual Violence Advocacy Training \nThis training is designed for advocates in their first year of work in the field of Sexual Violence Advocacy. Participants will learn how to recognize sexual violence\, it’s root causes and its impact on individuals and communities; they will learn about the Cultural Context that supports sexual violence and an advocate’s role in changing that culture. Participants will also learn about the building blocks for a healing centered approach to sexual violence and be able to identify resources in VA for an effective response. \nThis training will be held on November 3 from 9:00 – 4:00 with a required Zoom follow up training on November 9 from 10:00 – 11:30 am. The zoom link will be sent to you after registration
URL:https://vsdvalliance.org/event/basic-advocacy-trainings-farmville/
LOCATION:Moton Musuem\, 900 Griffin Blvd\, Farmville\, Va\, 23901
CATEGORIES:General Events,Members,Training
END:VEVENT
BEGIN:VEVENT
DTSTART;TZID=America/New_York:20231102T123000
DTEND;TZID=America/New_York:20231102T133000
DTSTAMP:20260421T055633
CREATED:20221222T164510Z
LAST-MODIFIED:20221222T165601Z
UID:10224-1698928200-1698931800@vsdvalliance.org
SUMMARY:Outreach Otters Sandbox
DESCRIPTION:Join us to hear from others regarding all things outreach\, community engagement\, and get ideas from other agencies to take back and put in practice at your agency. \nPlease register at the link below!
URL:https://vsdvalliance.org/event/outreach-otters-sandbox-4/
LOCATION:Virtual
CATEGORIES:Members
END:VEVENT
BEGIN:VEVENT
DTSTART;TZID=America/New_York:20231113T100000
DTEND;TZID=America/New_York:20231113T150000
DTSTAMP:20260421T055633
CREATED:20230111T193827Z
LAST-MODIFIED:20230111T193827Z
UID:10359-1699869600-1699887600@vsdvalliance.org
SUMMARY:Quarterly Training Series- Trauma Informed Grant Writing
DESCRIPTION:How do you make the grant writing process safe\, transparent\, collaborative\, and grounded in historical and cultural context? We’ll talk about a variety of strategies that will serve your agency well as you engage in preparing grant applications–and offer tips for making those applications successful. \n$30 for members/$65 for non members \nTo register\, please click on the link below.
URL:https://vsdvalliance.org/event/quarterly-training-series-trauma-informed-grant-writing/
LOCATION:Action Alliance\, 1413 W. Main Street\, Richmond\, VA\, 23220\, United States
CATEGORIES:General Events,Members,Training
END:VEVENT
BEGIN:VEVENT
DTSTART;TZID=America/New_York:20231115T100000
DTEND;TZID=America/New_York:20231115T160000
DTSTAMP:20260421T055633
CREATED:20230828T202834Z
LAST-MODIFIED:20230829T165315Z
UID:12091-1700042400-1700064000@vsdvalliance.org
SUMMARY:Trauma to Prison Pipeline\, Training for Trainers
DESCRIPTION:The vast majority of youth referred from school to law enforcement and into the juvenile justice system are survivors of trauma. The justice system typically fails to address\, and often deepens\, trauma. This 6-hour training will cover the connections between toxic stress and behavior issues in school\, how trauma connects with system-involved youth\, how and why restorative justice differs from traditional discipline\, and simple tips for responding to students in trauma-informed ways. \nParticipants will be given a brief “training in a box” to take back to deliver to your local schools and task forces to start conversations about simple steps that schools can take to significantly reduce the number of youth referred to law enforcement by responding to students in more trauma-informed ways. \nIntended audience: Preventionists\, youth advocates\, teachers\, community organizers working on disrupting trauma-to-prison pipeline\, and anyone working within their local schools on building healthy relationships and improving school climate. \nLunch is provided. \nCost: $60 for Basic and Non Members of the Action Alliance\, $35 for SDVA Members\, $40 for Affiliate\, Professional\, and Lifetime Members (Please put in member discount code at check out.)
URL:https://vsdvalliance.org/event/trauma-to-prison-pipeline-training-for-trainers/
LOCATION:Action Alliance\, 1413 W. Main Street\, Richmond\, VA\, 23220\, United States
CATEGORIES:General Events,Members,Training
END:VEVENT
BEGIN:VEVENT
DTSTART;TZID=America/New_York:20231116T090000
DTEND;TZID=America/New_York:20231116T160000
DTSTAMP:20260421T055633
CREATED:20230828T132652Z
LAST-MODIFIED:20230828T132652Z
UID:12081-1700125200-1700150400@vsdvalliance.org
SUMMARY:Legal Advocacy Training
DESCRIPTION:Survivors who engage with the criminal or civil legal systems need advocates who understand and can explain the ins and outs of the laws that impact their clients. The objective of this training is to strengthen attendees understanding of IPV/SV laws and how to provide effective legal advocacy. This training explores the multitude of available civil/criminal legal system remedies and resources\, the unique needs of underserved survivors\, and nuances related to the Virginia Code\, Protective Orders\, and Victim’s Rights. Participants attending this training are required to have a basic understanding of sexual and domestic violence \nLunch will be provided. Please include any dietary needs that you may have when you register.
URL:https://vsdvalliance.org/event/legal-advocacy-training/
LOCATION:Action Alliance\, 1413 W. Main Street\, Richmond\, VA\, 23220\, United States
CATEGORIES:General Events,Members,Training
END:VEVENT
END:VCALENDAR