BEGIN:VCALENDAR
VERSION:2.0
PRODID:-//Virginia Sexual &amp; Domestic Violence Action Alliance - ECPv6.15.20//NONSGML v1.0//EN
CALSCALE:GREGORIAN
METHOD:PUBLISH
X-ORIGINAL-URL:https://vsdvalliance.org
X-WR-CALDESC:Events for Virginia Sexual &amp; Domestic Violence Action Alliance
REFRESH-INTERVAL;VALUE=DURATION:PT1H
X-Robots-Tag:noindex
X-PUBLISHED-TTL:PT1H
BEGIN:VTIMEZONE
TZID:America/New_York
BEGIN:DAYLIGHT
TZOFFSETFROM:-0500
TZOFFSETTO:-0400
TZNAME:EDT
DTSTART:20230312T070000
END:DAYLIGHT
BEGIN:STANDARD
TZOFFSETFROM:-0400
TZOFFSETTO:-0500
TZNAME:EST
DTSTART:20231105T060000
END:STANDARD
BEGIN:DAYLIGHT
TZOFFSETFROM:-0500
TZOFFSETTO:-0400
TZNAME:EDT
DTSTART:20240310T070000
END:DAYLIGHT
BEGIN:STANDARD
TZOFFSETFROM:-0400
TZOFFSETTO:-0500
TZNAME:EST
DTSTART:20241103T060000
END:STANDARD
BEGIN:DAYLIGHT
TZOFFSETFROM:-0500
TZOFFSETTO:-0400
TZNAME:EDT
DTSTART:20250309T070000
END:DAYLIGHT
BEGIN:STANDARD
TZOFFSETFROM:-0400
TZOFFSETTO:-0500
TZNAME:EST
DTSTART:20251102T060000
END:STANDARD
END:VTIMEZONE
BEGIN:VEVENT
DTSTART;TZID=America/New_York:20240311T100000
DTEND;TZID=America/New_York:20240311T113000
DTSTAMP:20260420T224620
CREATED:20240307T200126Z
LAST-MODIFIED:20240307T200126Z
UID:12632-1710151200-1710156600@vsdvalliance.org
SUMMARY:New Directors' Training Series
DESCRIPTION:
URL:https://vsdvalliance.org/event/new-directors-training-series/
LOCATION:Virtual- Zoom
CATEGORIES:General Events,Members,Training
END:VEVENT
BEGIN:VEVENT
DTSTART;TZID=America/New_York:20240313T100000
DTEND;TZID=America/New_York:20240314T170000
DTSTAMP:20260420T224620
CREATED:20240307T200258Z
LAST-MODIFIED:20240307T200258Z
UID:12635-1710324000-1710435600@vsdvalliance.org
SUMMARY:Do YOU: Uplifing the Resiliency of Systems-Involved Youth
DESCRIPTION:
URL:https://vsdvalliance.org/event/do-you-uplifing-the-resiliency-of-systems-involved-youth/
LOCATION:Action Alliance\, 1413 W. Main Street\, Richmond\, VA\, 23220\, United States
ORGANIZER;CN="Prevention Team":MAILTO:prevention@vsdvalliance.org
END:VEVENT
BEGIN:VEVENT
DTSTART;TZID=America/New_York:20240314T130000
DTEND;TZID=America/New_York:20240314T150000
DTSTAMP:20260420T224620
CREATED:20240307T200400Z
LAST-MODIFIED:20240307T200400Z
UID:12638-1710421200-1710428400@vsdvalliance.org
SUMMARY:State and Local Partners Meeting
DESCRIPTION:
URL:https://vsdvalliance.org/event/state-and-local-partners-meeting-7/
LOCATION:Virtual
CATEGORIES:General Events,Members,Training
END:VEVENT
BEGIN:VEVENT
DTSTART;TZID=America/New_York:20240315T100000
DTEND;TZID=America/New_York:20240315T160000
DTSTAMP:20260420T224620
CREATED:20240307T200510Z
LAST-MODIFIED:20240307T200510Z
UID:12640-1710496800-1710518400@vsdvalliance.org
SUMMARY:IPV Training\, Farmville
DESCRIPTION:
URL:https://vsdvalliance.org/event/ipv-training-farmville/
LOCATION:Moton Musuem\, 900 Griffin Blvd\, Farmville\, Va\, 23901
CATEGORIES:General Events,Members,Training
END:VEVENT
BEGIN:VEVENT
DTSTART;TZID=America/New_York:20240320T100000
DTEND;TZID=America/New_York:20240320T160000
DTSTAMP:20260420T224620
CREATED:20240307T200623Z
LAST-MODIFIED:20240307T200623Z
UID:12644-1710928800-1710950400@vsdvalliance.org
SUMMARY:Joyful Sexuality and the Movement to End Sexual and Domestic Violence
DESCRIPTION:
URL:https://vsdvalliance.org/event/joyful-sexuality-and-the-movement-to-end-sexual-and-domestic-violence/
LOCATION:Action Alliance\, 1413 W. Main Street\, Richmond\, VA\, 23220\, United States
CATEGORIES:General Events,Members,Training
END:VEVENT
END:VCALENDAR