BEGIN:VCALENDAR
VERSION:2.0
PRODID:-//Virginia Sexual &amp; Domestic Violence Action Alliance - ECPv6.15.20//NONSGML v1.0//EN
CALSCALE:GREGORIAN
METHOD:PUBLISH
X-WR-CALNAME:Virginia Sexual &amp; Domestic Violence Action Alliance
X-ORIGINAL-URL:https://vsdvalliance.org
X-WR-CALDESC:Events for Virginia Sexual &amp; Domestic Violence Action Alliance
REFRESH-INTERVAL;VALUE=DURATION:PT1H
X-Robots-Tag:noindex
X-PUBLISHED-TTL:PT1H
BEGIN:VTIMEZONE
TZID:America/New_York
BEGIN:DAYLIGHT
TZOFFSETFROM:-0500
TZOFFSETTO:-0400
TZNAME:EDT
DTSTART:20230312T070000
END:DAYLIGHT
BEGIN:STANDARD
TZOFFSETFROM:-0400
TZOFFSETTO:-0500
TZNAME:EST
DTSTART:20231105T060000
END:STANDARD
BEGIN:DAYLIGHT
TZOFFSETFROM:-0500
TZOFFSETTO:-0400
TZNAME:EDT
DTSTART:20240310T070000
END:DAYLIGHT
BEGIN:STANDARD
TZOFFSETFROM:-0400
TZOFFSETTO:-0500
TZNAME:EST
DTSTART:20241103T060000
END:STANDARD
BEGIN:DAYLIGHT
TZOFFSETFROM:-0500
TZOFFSETTO:-0400
TZNAME:EDT
DTSTART:20250309T070000
END:DAYLIGHT
BEGIN:STANDARD
TZOFFSETFROM:-0400
TZOFFSETTO:-0500
TZNAME:EST
DTSTART:20251102T060000
END:STANDARD
END:VTIMEZONE
BEGIN:VEVENT
DTSTART;TZID=America/New_York:20240514T153000
DTEND;TZID=America/New_York:20240514T170000
DTSTAMP:20260421T055247
CREATED:20240307T201103Z
LAST-MODIFIED:20240307T201103Z
UID:12652-1715700600-1715706000@vsdvalliance.org
SUMMARY:People of Color Caucus
DESCRIPTION:
URL:https://vsdvalliance.org/event/people-of-color-caucus-2/
LOCATION:Virtual
CATEGORIES:Members
END:VEVENT
BEGIN:VEVENT
DTSTART;TZID=America/New_York:20240514T153000
DTEND;TZID=America/New_York:20240514T173000
DTSTAMP:20260421T055247
CREATED:20240510T142457Z
LAST-MODIFIED:20240510T142457Z
UID:12853-1715700600-1715707800@vsdvalliance.org
SUMMARY:People of Color Caucus
DESCRIPTION:The People of Color Caucus was formed to create a space where folks of color can come together to be in community and foster connections and have connections on how to amplify each other’s voices. Caucuses are for Action Alliance members only.
URL:https://vsdvalliance.org/event/people-of-color-caucus-3/
LOCATION:Virtual
CATEGORIES:General Events,Members,Training
END:VEVENT
BEGIN:VEVENT
DTSTART;TZID=America/New_York:20240515T100000
DTEND;TZID=America/New_York:20240515T163000
DTSTAMP:20260421T055247
CREATED:20240510T134325Z
LAST-MODIFIED:20240510T140445Z
UID:12850-1715767200-1715790600@vsdvalliance.org
SUMMARY:Prevention Gathering
DESCRIPTION:This gathering will bring together preventionists from across Virginia to have discussions about health equity and primary prevention that will guide their communities toward culture change. Attendees will have space for innovation\, visioning\, support\, and collective care. Lunch will be provided. Spanish language interpretation is available upon request.
URL:https://vsdvalliance.org/event/prevention-gathering/
LOCATION:Unitarian Universalist Community Church\, 11105 Cauthorne Road\, Glen Allen\, VA\, 23059\, United States
CATEGORIES:General Events,Members,Training
END:VEVENT
BEGIN:VEVENT
DTSTART;TZID=America/New_York:20240522T090000
DTEND;TZID=America/New_York:20240523T163000
DTSTAMP:20260421T055247
CREATED:20240307T201432Z
LAST-MODIFIED:20240307T201432Z
UID:12654-1716368400-1716481800@vsdvalliance.org
SUMMARY:Protective Order Conference
DESCRIPTION:
URL:https://vsdvalliance.org/event/protective-order-conference/
LOCATION:Sweet Briar College\, 450 Sweet Briar Drive\, Sweet Briar\, VA\, 24595\, United States
CATEGORIES:General Events,Members,Training
END:VEVENT
BEGIN:VEVENT
DTSTART;TZID=America/New_York:20240528T150000
DTEND;TZID=America/New_York:20240528T163000
DTSTAMP:20260421T055247
CREATED:20240509T181856Z
LAST-MODIFIED:20240509T183116Z
UID:12823-1716908400-1716913800@vsdvalliance.org
SUMMARY:VAdata Training and Office Hours
DESCRIPTION:
URL:https://vsdvalliance.org/event/vadata-training-and-office-hours/
LOCATION:Virtual- Zoom
CATEGORIES:General Events,Members,Training
END:VEVENT
BEGIN:VEVENT
DTSTART;TZID=America/New_York:20240530T090000
DTEND;TZID=America/New_York:20240530T150000
DTSTAMP:20260421T055247
CREATED:20240510T142854Z
LAST-MODIFIED:20240510T142854Z
UID:12856-1717059600-1717081200@vsdvalliance.org
SUMMARY:Spring 2024 Directors' Forum
DESCRIPTION:Directors and director-level leaders across the state are invited to join the Action Alliance for our Spring 2024 SDVA Directors’ Forum: Nourishing Connection. The agenda includes some new and emerging resources for Directors and programs\, as well as some Peer-to-Peer TA time (back by popular demand!). The agenda is not conducive to virtual participation\, so this will be in person.
URL:https://vsdvalliance.org/event/spring-2024-directors-forum/
LOCATION:Church of Our Savior Episcopal\, 1165 Rio Rd E\, Charlottesville\, Virginia\, 22901\, United States
CATEGORIES:General Events,Members,Training
END:VEVENT
END:VCALENDAR