BEGIN:VCALENDAR
VERSION:2.0
PRODID:-//Virginia Sexual &amp; Domestic Violence Action Alliance - ECPv6.15.20//NONSGML v1.0//EN
CALSCALE:GREGORIAN
METHOD:PUBLISH
X-ORIGINAL-URL:https://vsdvalliance.org
X-WR-CALDESC:Events for Virginia Sexual &amp; Domestic Violence Action Alliance
REFRESH-INTERVAL;VALUE=DURATION:PT1H
X-Robots-Tag:noindex
X-PUBLISHED-TTL:PT1H
BEGIN:VTIMEZONE
TZID:America/New_York
BEGIN:DAYLIGHT
TZOFFSETFROM:-0500
TZOFFSETTO:-0400
TZNAME:EDT
DTSTART:20230312T070000
END:DAYLIGHT
BEGIN:STANDARD
TZOFFSETFROM:-0400
TZOFFSETTO:-0500
TZNAME:EST
DTSTART:20231105T060000
END:STANDARD
BEGIN:DAYLIGHT
TZOFFSETFROM:-0500
TZOFFSETTO:-0400
TZNAME:EDT
DTSTART:20240310T070000
END:DAYLIGHT
BEGIN:STANDARD
TZOFFSETFROM:-0400
TZOFFSETTO:-0500
TZNAME:EST
DTSTART:20241103T060000
END:STANDARD
BEGIN:DAYLIGHT
TZOFFSETFROM:-0500
TZOFFSETTO:-0400
TZNAME:EDT
DTSTART:20250309T070000
END:DAYLIGHT
BEGIN:STANDARD
TZOFFSETFROM:-0400
TZOFFSETTO:-0500
TZNAME:EST
DTSTART:20251102T060000
END:STANDARD
END:VTIMEZONE
BEGIN:VEVENT
DTSTART;TZID=America/New_York:20240709T120000
DTEND;TZID=America/New_York:20240709T140000
DTSTAMP:20260422T235743
CREATED:20240605T150607Z
LAST-MODIFIED:20240605T150607Z
UID:12957-1720526400-1720533600@vsdvalliance.org
SUMMARY:Trauma Informed Lawyering
DESCRIPTION:In this training\, we’ll discuss trauma and its impact on survivors and attorneys as well as explore how to respond to clients using a trauma-informed approach. \nThe event is CLE pending. We’re hoping that training lawyers to be trauma-informed in their approach will lead to improved services for survivors. Lawyers will also gain an increased understanding of trauma and its impact on individuals and themselves.
URL:https://vsdvalliance.org/event/trauma-informed-lawyering-6/
LOCATION:Virtual- Zoom
CATEGORIES:General Events,Members,Training
END:VEVENT
BEGIN:VEVENT
DTSTART;TZID=America/New_York:20240709T153000
DTEND;TZID=America/New_York:20240709T170000
DTSTAMP:20260422T235743
CREATED:20240510T151302Z
LAST-MODIFIED:20240510T151302Z
UID:12870-1720539000-1720544400@vsdvalliance.org
SUMMARY:People of Color Caucus
DESCRIPTION:The People of Color Caucus was formed to create a space where folks of color can come together to be in community and foster connections and have connections on how to amplify each other’s voices. Caucuses are for Action Alliance members only.
URL:https://vsdvalliance.org/event/people-of-color-caucus-4/
LOCATION:Virtual
CATEGORIES:General Events,Members,Training
END:VEVENT
BEGIN:VEVENT
DTSTART;TZID=America/New_York:20240723T100000
DTEND;TZID=America/New_York:20240724T160000
DTSTAMP:20260422T235743
CREATED:20240510T153905Z
LAST-MODIFIED:20240510T160152Z
UID:12872-1721728800-1721836800@vsdvalliance.org
SUMMARY:DO YOU Facilitator Training
DESCRIPTION:DO YOU: Building Youth Resilience Through Creative Expression is a primary prevention strategy to address teen dating violence\, sexual harassment\, and bullying. DO YOU addresses youth violence by confronting root causes and enhancing protective factors (building resilience) to promote positive development and healthy relationships for young people ages 13-16 years old. \nThis training is designed for adult facilitators and teen mentors/peer facilitators who are interested in implementing the DO YOU program in their communities. Participants will learn about the history and development of the program\, engage in experiential and art-based activities\, and receive facilitation tools for implementing the DO YOU program. Participants will receive the DO YOU UnCurriculum (program facilitation guide)\, 21 zines\, tools for evaluation\, and ongoing technical assistance to support program implementation.
URL:https://vsdvalliance.org/event/do-you-facilitator-training-4/
LOCATION:Training Center\, 1413 W. Main St.\, Richmond\, VA\, 23220
CATEGORIES:General Events,Members,Training
END:VEVENT
BEGIN:VEVENT
DTSTART;TZID=America/New_York:20240730T080000
DTEND;TZID=America/New_York:20240730T170000
DTSTAMP:20260422T235743
CREATED:20240509T182131Z
LAST-MODIFIED:20240509T183053Z
UID:12829-1722326400-1722358800@vsdvalliance.org
SUMMARY:VAdata Training and Virtual Office Hours
DESCRIPTION:
URL:https://vsdvalliance.org/event/vadata-training-and-virtual-office-hours-2/
LOCATION:Virtual- Zoom
CATEGORIES:General Events,Members,Training
END:VEVENT
END:VCALENDAR