BEGIN:VCALENDAR
VERSION:2.0
PRODID:-//Virginia Sexual &amp; Domestic Violence Action Alliance - ECPv6.15.20//NONSGML v1.0//EN
CALSCALE:GREGORIAN
METHOD:PUBLISH
X-ORIGINAL-URL:https://vsdvalliance.org
X-WR-CALDESC:Events for Virginia Sexual &amp; Domestic Violence Action Alliance
REFRESH-INTERVAL;VALUE=DURATION:PT1H
X-Robots-Tag:noindex
X-PUBLISHED-TTL:PT1H
BEGIN:VTIMEZONE
TZID:America/New_York
BEGIN:DAYLIGHT
TZOFFSETFROM:-0500
TZOFFSETTO:-0400
TZNAME:EDT
DTSTART:20230312T070000
END:DAYLIGHT
BEGIN:STANDARD
TZOFFSETFROM:-0400
TZOFFSETTO:-0500
TZNAME:EST
DTSTART:20231105T060000
END:STANDARD
BEGIN:DAYLIGHT
TZOFFSETFROM:-0500
TZOFFSETTO:-0400
TZNAME:EDT
DTSTART:20240310T070000
END:DAYLIGHT
BEGIN:STANDARD
TZOFFSETFROM:-0400
TZOFFSETTO:-0500
TZNAME:EST
DTSTART:20241103T060000
END:STANDARD
BEGIN:DAYLIGHT
TZOFFSETFROM:-0500
TZOFFSETTO:-0400
TZNAME:EDT
DTSTART:20250309T070000
END:DAYLIGHT
BEGIN:STANDARD
TZOFFSETFROM:-0400
TZOFFSETTO:-0500
TZNAME:EST
DTSTART:20251102T060000
END:STANDARD
END:VTIMEZONE
BEGIN:VEVENT
DTSTART;TZID=America/New_York:20240807T140000
DTEND;TZID=America/New_York:20240807T150000
DTSTAMP:20260422T222516
CREATED:20240510T154531Z
LAST-MODIFIED:20240510T154531Z
UID:12874-1723039200-1723042800@vsdvalliance.org
SUMMARY:Director's Virtual Meet-Up
DESCRIPTION:The Statewide Hotline/Crisis Response Team would like to offer this space as an ongoing opportunity to increase partnership\, learn more about the needs at agencies\, have a place to share and learn more about Statewide Hotline operations\, and to provide the space for folx to discuss challenges\, highlights\, regional updates\, trends\, etc.
URL:https://vsdvalliance.org/event/directors-virtual-meet-up-3/
LOCATION:Virtual- Zoom
CATEGORIES:General Events,Members,Training
END:VEVENT
BEGIN:VEVENT
DTSTART;TZID=America/New_York:20240821T140000
DTEND;TZID=America/New_York:20240821T150000
DTSTAMP:20260422T222516
CREATED:20240510T154709Z
LAST-MODIFIED:20240510T155753Z
UID:12876-1724248800-1724252400@vsdvalliance.org
SUMMARY:Statewide Advocates' Meeting
DESCRIPTION:The Statewide Hotline/Crisis Response Team would like to offer this space as an ongoing opportunity for folx working on the front lines and on the hotlines providing direct services and support! This is a space with opportunities to meet other advocates across VA\, learn more about the Statewide Hotline and Project for Empowerment of Survivors (PES) and to share trends\, highlights\, events\, regional updates\, etc.
URL:https://vsdvalliance.org/event/statewide-advocates-meeting-3/
LOCATION:Virtual- Zoom
CATEGORIES:General Events,Members,Training
END:VEVENT
BEGIN:VEVENT
DTSTART;TZID=America/New_York:20240822T130000
DTEND;TZID=America/New_York:20240822T150000
DTSTAMP:20260422T222516
CREATED:20240510T154833Z
LAST-MODIFIED:20240510T154833Z
UID:12878-1724331600-1724338800@vsdvalliance.org
SUMMARY:State and Local Partners Meeting
DESCRIPTION:These quarterly gatherings of advocates\, preventionists\, sexual and domestic violence agency administrators\, state funders and other partners serving survivors of violence are opportunities for connection and collaboration on the local\, regional\, and state level. The State and Local Partners Meetings are a unique opportunity for agencies to share their expertise and experiences from the front lines with funding partners who would like to learn more about emerging trends\, needs\, and celebrations among our communities.
URL:https://vsdvalliance.org/event/state-and-local-partners-meeting-9/
LOCATION:Virtual- Zoom
CATEGORIES:General Events,Members,Training
END:VEVENT
BEGIN:VEVENT
DTSTART;TZID=America/New_York:20240827T150000
DTEND;TZID=America/New_York:20240827T163000
DTSTAMP:20260422T222516
CREATED:20240509T182232Z
LAST-MODIFIED:20240509T183045Z
UID:12831-1724770800-1724776200@vsdvalliance.org
SUMMARY:VAdata Training and Virtual Office Hours
DESCRIPTION:
URL:https://vsdvalliance.org/event/vadata-training-and-virtual-office-hours-3/
LOCATION:Virtual- Zoom
CATEGORIES:General Events,Members,Training
END:VEVENT
END:VCALENDAR