BEGIN:VCALENDAR
VERSION:2.0
PRODID:-//Virginia Sexual &amp; Domestic Violence Action Alliance - ECPv6.15.20//NONSGML v1.0//EN
CALSCALE:GREGORIAN
METHOD:PUBLISH
X-ORIGINAL-URL:https://vsdvalliance.org
X-WR-CALDESC:Events for Virginia Sexual &amp; Domestic Violence Action Alliance
REFRESH-INTERVAL;VALUE=DURATION:PT1H
X-Robots-Tag:noindex
X-PUBLISHED-TTL:PT1H
BEGIN:VTIMEZONE
TZID:America/New_York
BEGIN:DAYLIGHT
TZOFFSETFROM:-0500
TZOFFSETTO:-0400
TZNAME:EDT
DTSTART:20230312T070000
END:DAYLIGHT
BEGIN:STANDARD
TZOFFSETFROM:-0400
TZOFFSETTO:-0500
TZNAME:EST
DTSTART:20231105T060000
END:STANDARD
BEGIN:DAYLIGHT
TZOFFSETFROM:-0500
TZOFFSETTO:-0400
TZNAME:EDT
DTSTART:20240310T070000
END:DAYLIGHT
BEGIN:STANDARD
TZOFFSETFROM:-0400
TZOFFSETTO:-0500
TZNAME:EST
DTSTART:20241103T060000
END:STANDARD
BEGIN:DAYLIGHT
TZOFFSETFROM:-0500
TZOFFSETTO:-0400
TZNAME:EDT
DTSTART:20250309T070000
END:DAYLIGHT
BEGIN:STANDARD
TZOFFSETFROM:-0400
TZOFFSETTO:-0500
TZNAME:EST
DTSTART:20251102T060000
END:STANDARD
END:VTIMEZONE
BEGIN:VEVENT
DTSTART;TZID=America/New_York:20240901T090000
DTEND;TZID=America/New_York:20240901T170000
DTSTAMP:20260422T205516
CREATED:20240903T222140Z
LAST-MODIFIED:20240903T222140Z
UID:13197-1725181200-1725210000@vsdvalliance.org
SUMMARY:I Emerge: Wellness Coaching/Individual TA
DESCRIPTION:For Whom: Advocates and leaders in the field of sexual and domestic violence advocacy\, intervention\, and prevention \nWhy: Dedicated time and space to fit your schedule\, as well as your wellness-related intentions and barriers. This 45-minute one-on-one coaching supports your exploration of how to be connected\, well\, and whole in this work – from the inside-out. \nClick the link to schedule your monthly coaching session.
URL:https://vsdvalliance.org/event/i-emerge-wellness-coaching-individual-ta-2/
LOCATION:Virtual- Zoom
CATEGORIES:General Events
END:VEVENT
BEGIN:VEVENT
DTSTART;TZID=America/New_York:20240904T100000
DTEND;TZID=America/New_York:20240904T110000
DTSTAMP:20260422T205516
CREATED:20240903T181848Z
LAST-MODIFIED:20240903T181848Z
UID:13167-1725444000-1725447600@vsdvalliance.org
SUMMARY:We Emerge: Coaching Session
DESCRIPTION:What: A.W.E. Group Sessions (Advocate Wellness Experiences) \nWhy: Advocate Wellness Experience Sessions are:\n● Time to HONOR the INNER experience of advocates\n● Space to BE with those who get it\n● Guidance to RE-CENTER…\n● So can we show up to this work whole\, and WELL. \nDrop into these monthly sessions to prioritize taking time to check in with ourselves and each other. Explore wellness topics and skills that you can bring into your own wellness practice and into your work supporting survivors. \nSessions will be held on the first Wednesday of September\, November\, and December at 10am. Join one or all of the sessions.
URL:https://vsdvalliance.org/event/we-emerge-coaching-session/
LOCATION:Virtual- Zoom
CATEGORIES:General Events
END:VEVENT
BEGIN:VEVENT
DTSTART;TZID=America/New_York:20240909T100000
DTEND;TZID=America/New_York:20240909T113000
DTSTAMP:20260422T205516
CREATED:20240605T151537Z
LAST-MODIFIED:20240605T151537Z
UID:12961-1725876000-1725881400@vsdvalliance.org
SUMMARY:New Directors' Series 2024: It's All About the Crew
DESCRIPTION:The boat is not going anywhere without a willing and competent crew!  Let’s talk about recruiting\, training and promoting your agency crew.  Learn about the elements of creating a trauma-informed workplace.  Leave with a newfound appreciation for your role in valuing and supporting your crew. \nNote: We will try to accommodate last minute language translation requests\, but we typically need two weeks to secure interpretation services.
URL:https://vsdvalliance.org/event/new-directors-series-2024-its-all-about-the-crew/
LOCATION:Virtual
CATEGORIES:General Events,Members,Training
END:VEVENT
BEGIN:VEVENT
DTSTART;TZID=America/New_York:20240917T090000
DTEND;TZID=America/New_York:20240918T170000
DTSTAMP:20260422T205516
CREATED:20240724T154504Z
LAST-MODIFIED:20240724T154818Z
UID:13082-1726563600-1726678800@vsdvalliance.org
SUMMARY:Advocacy Core Training for Trainers
DESCRIPTION:This two-day intensive training is designed for trainers\, managers\, or coordinators who are responsible for training new staff and volunteers in community based sexual and domestic violence organizations. This training covers briefly the basics of trauma informed advocacy\, crisis intervention\, risk analysis and safety planning\, resource access and the role of sexual and domestic violence advocates. This training also provides participants with teaching techniques and skill building exercises that are designed to build trauma responsive healing centered advocacy skills.
URL:https://vsdvalliance.org/event/advocacy-core-training-for-trainers/
LOCATION:Training Center\, 1413 W. Main St.\, Richmond\, VA\, 23220
CATEGORIES:General Events
END:VEVENT
BEGIN:VEVENT
DTSTART;TZID=America/New_York:20240917T150000
DTEND;TZID=America/New_York:20240917T163000
DTSTAMP:20260422T205516
CREATED:20240509T182354Z
LAST-MODIFIED:20240909T155016Z
UID:12833-1726585200-1726590600@vsdvalliance.org
SUMMARY:VAdata Training and Virtual Office Hours
DESCRIPTION:
URL:https://vsdvalliance.org/event/vadata-training-and-virtual-office-hours-4/
LOCATION:Virtual- Zoom
CATEGORIES:General Events,Members,Training
END:VEVENT
BEGIN:VEVENT
DTSTART;TZID=America/New_York:20240919T090000
DTEND;TZID=America/New_York:20240919T150000
DTSTAMP:20260422T205516
CREATED:20240724T155231Z
LAST-MODIFIED:20240724T155231Z
UID:13085-1726736400-1726758000@vsdvalliance.org
SUMMARY:Principles of Primary Prevention
DESCRIPTION:Primary prevention programs are focused on reducing or eliminating the first-time perpetration of sexual violence and intimate partner violence (SV/IPV). This means figuring out what factors make some people more at-risk to perpetrate SV/IPV\, and changing or interrupting those factors. This training delves into the key concepts underlying this innovative work\, highlights promising practices from the field\, and includes an overview of Virginia’s Guidelines for the Primary Prevention of Sexual Violence & Intimate Partner Violence used by sexual and domestic violence agencies throughout Virginia and across the country.
URL:https://vsdvalliance.org/event/principles-of-primary-prevention-2/
LOCATION:Training Center\, 1413 W. Main St.\, Richmond\, VA\, 23220
CATEGORIES:General Events
END:VEVENT
BEGIN:VEVENT
DTSTART;TZID=America/New_York:20240925T100000
DTEND;TZID=America/New_York:20240925T150000
DTSTAMP:20260422T205516
CREATED:20240903T194154Z
LAST-MODIFIED:20240903T194154Z
UID:13180-1727258400-1727276400@vsdvalliance.org
SUMMARY:Emerging Together: Wholeness as Wellness - Building Healing-Centered Capacity for Us
DESCRIPTION:What: Wholeness as Wellness: Building Healing-Centered Capacity for Us \nFor whom: Advocates and leaders in the field of sexual and domestic violence advocacy\, intervention\, and prevention (*preferably\, participants have joined a recent AWE Group Session and/or a Wellness Coaching session to layer learning/doing) \nWhy: Join us to begin to build a new way of being in our work – an intentional and critical paradigm shift in the movement from reacting to the crisis of burnout to anticipating and building healing-centered capacity to prevent it. Together\, we will unpack the reality of the impact of this work and explore practices that support us in recentering our own wellness and wholeness in this work. This will be a reflective\, interactive\, experiential\, and joy-filled session meant to foster mutual aid connections and ready us with insight and practices to get back to work whole and well.
URL:https://vsdvalliance.org/event/emerging-together-wholeness-as-wellness-building-healing-centered-capacity-for-us/
LOCATION:Church of Our Savior Episcopal\, 1165 Rio Rd E\, Charlottesville\, Virginia\, 22901\, United States
CATEGORIES:General Events
END:VEVENT
BEGIN:VEVENT
DTSTART;TZID=America/New_York:20240926T130000
DTEND;TZID=America/New_York:20240926T143000
DTSTAMP:20260422T205516
CREATED:20240903T194743Z
LAST-MODIFIED:20240903T194743Z
UID:13182-1727355600-1727361000@vsdvalliance.org
SUMMARY:Exploring Organizational Wellness
DESCRIPTION:What: Let’s begin to imagine robust strategies and practices for sustained wellness\, connection and power. \nFor whom: Advocates\, preventionists\, outreach staff\, and agency leadership are all invited to participate. Sexual and domestic violence programs seeking to bring about organizational change will benefit from identifying a diverse team to participate in attending as many sessions as possible. \nWhy: Promote wellness\, resilience\, and sustainability within SDVAs and in your community partnerships through building practices that focus on connection\, resilience\, trauma stewardship\, and hope.
URL:https://vsdvalliance.org/event/exploring-organizational-wellness/
LOCATION:Virtual- Zoom
CATEGORIES:General Events
END:VEVENT
END:VCALENDAR