BEGIN:VCALENDAR
VERSION:2.0
PRODID:-//Virginia Sexual &amp; Domestic Violence Action Alliance - ECPv6.15.20//NONSGML v1.0//EN
CALSCALE:GREGORIAN
METHOD:PUBLISH
X-ORIGINAL-URL:https://vsdvalliance.org
X-WR-CALDESC:Events for Virginia Sexual &amp; Domestic Violence Action Alliance
REFRESH-INTERVAL;VALUE=DURATION:PT1H
X-Robots-Tag:noindex
X-PUBLISHED-TTL:PT1H
BEGIN:VTIMEZONE
TZID:America/New_York
BEGIN:DAYLIGHT
TZOFFSETFROM:-0500
TZOFFSETTO:-0400
TZNAME:EDT
DTSTART:20230312T070000
END:DAYLIGHT
BEGIN:STANDARD
TZOFFSETFROM:-0400
TZOFFSETTO:-0500
TZNAME:EST
DTSTART:20231105T060000
END:STANDARD
BEGIN:DAYLIGHT
TZOFFSETFROM:-0500
TZOFFSETTO:-0400
TZNAME:EDT
DTSTART:20240310T070000
END:DAYLIGHT
BEGIN:STANDARD
TZOFFSETFROM:-0400
TZOFFSETTO:-0500
TZNAME:EST
DTSTART:20241103T060000
END:STANDARD
BEGIN:DAYLIGHT
TZOFFSETFROM:-0500
TZOFFSETTO:-0400
TZNAME:EDT
DTSTART:20250309T070000
END:DAYLIGHT
BEGIN:STANDARD
TZOFFSETFROM:-0400
TZOFFSETTO:-0500
TZNAME:EST
DTSTART:20251102T060000
END:STANDARD
END:VTIMEZONE
BEGIN:VEVENT
DTSTART;TZID=America/New_York:20241201T090000
DTEND;TZID=America/New_York:20241201T170000
DTSTAMP:20260420T225200
CREATED:20240903T223217Z
LAST-MODIFIED:20240903T223217Z
UID:13204-1733043600-1733072400@vsdvalliance.org
SUMMARY:I Emerge: Wellness Coaching/Individual TA
DESCRIPTION:For Whom: Advocates and leaders in the field of sexual and domestic violence advocacy\, intervention\, and prevention \nWhy: Dedicated time and space to fit your schedule\, as well as your wellness-related intentions and barriers. This 45-minute one-on-one coaching supports your exploration of how to be connected\, well\, and whole in this work – from the inside-out. \nClick the link to schedule your monthly coaching session.
URL:https://vsdvalliance.org/event/i-emerge-wellness-coaching-individual-ta-5/
LOCATION:Virtual- Zoom
CATEGORIES:General Events
END:VEVENT
BEGIN:VEVENT
DTSTART;TZID=America/New_York:20241204T100000
DTEND;TZID=America/New_York:20241204T110000
DTSTAMP:20260420T225200
CREATED:20240903T190521Z
LAST-MODIFIED:20240909T154913Z
UID:13178-1733306400-1733310000@vsdvalliance.org
SUMMARY:We Emerge: Coaching Session
DESCRIPTION:What: A.W.E. Group Sessions (Advocate Wellness Experiences) \nWhy: Advocate Wellness Experience Sessions are:\n● Time to HONOR the INNER experience of advocates\n● Space to BE with those who get it\n● Guidance to RE-CENTER…\n● So can we show up to this work whole\, and WELL. \nDrop into these monthly sessions to prioritize taking time to check in with ourselves and each other. Explore wellness topics and skills that you can bring into your own wellness practice and into your work supporting survivors. \nSessions will be held on the first Wednesday of September\, November\, and December at 10am. Join one or all of the sessions.
URL:https://vsdvalliance.org/event/we-emerge-coaching-session-3/
LOCATION:Virtual- Zoom
CATEGORIES:General Events,Members,Training
END:VEVENT
BEGIN:VEVENT
DTSTART;TZID=America/New_York:20241204T140000
DTEND;TZID=America/New_York:20241204T150000
DTSTAMP:20260420T225200
CREATED:20240605T153233Z
LAST-MODIFIED:20240605T153233Z
UID:12973-1733320800-1733324400@vsdvalliance.org
SUMMARY:Director’s Virtual Meet-up
DESCRIPTION:The Statewide Hotline/Crisis Response Team would like to offer this space as an ongoing opportunity to increase partnership\, learn more about the needs at agencies\, have a place to share and learn more about Statewide Hotline operations\, and to provide the space for folx to discuss challenges\, highlights\, regional updates\, trends\, etc. We look forward to seeing you all every other month in 2024 (February\, April\, June\, August\, October and December) on the 1st Monday from 2-3p! \nNote: We will try to accommodate last minute language translation requests but we typically need two weeks to secure interpretation services.
URL:https://vsdvalliance.org/event/directors-virtual-meet-up-5/
LOCATION:Virtual- Zoom
CATEGORIES:General Events,Members,Training
END:VEVENT
BEGIN:VEVENT
DTSTART;TZID=America/New_York:20241206T100000
DTEND;TZID=America/New_York:20241206T140000
DTSTAMP:20260420T225200
CREATED:20241001T185709Z
LAST-MODIFIED:20241001T185709Z
UID:13477-1733479200-1733493600@vsdvalliance.org
SUMMARY:VaData Training
DESCRIPTION:Sexual and domestic violence agencies across the state are using VAdata to track services and manage their grant reporting. For new staff\, this means learning about VAdata\, how data is captured\, and how to use data to tell the story of survivors in your area. For advanced users\, the training aims to provide participants with information about the many reports available in VAdata and hands on experience inputting data. After these trainings\, participants will understand more about the history and scope of the VAdata system\, how to use and audit queries to retrieve information\, how to use reports in grant writing\, raising community awareness and more\, and how data entry practices impact data and reporting statewide. \nNote: We will try to accommodate last minute language translation requests but we typically need two weeks to secure interpretation services.
URL:https://vsdvalliance.org/event/vadata-training-3/
LOCATION:Training Center\, 1413 W. Main St.\, Richmond\, VA\, 23220
CATEGORIES:General Events,Training
END:VEVENT
BEGIN:VEVENT
DTSTART;TZID=America/New_York:20241209T100000
DTEND;TZID=America/New_York:20241209T150000
DTSTAMP:20260420T225200
CREATED:20240605T153423Z
LAST-MODIFIED:20240605T153423Z
UID:12975-1733738400-1733756400@vsdvalliance.org
SUMMARY:New Directors' Series 2024: Heading Out to Sea
DESCRIPTION:A successful voyage requires not only balance\, provisions\, and an effective crew\, but also successful navigation.  Directors play key roles in communicating a vision and setting the course from day to day. Explore options for approaching strategic planning as well as course corrections in agency mission and goals. Leave with resources that will help you in your role as a navigator. \nNote: We will try to accommodate last minute language translation requests but we typically need two weeks to secure interpretation services.
URL:https://vsdvalliance.org/event/new-directors-series-2024-heading-out-to-sea/
LOCATION:Training Center\, 1413 W. Main St.\, Richmond\, VA\, 23220
CATEGORIES:General Events,Members,Training
END:VEVENT
BEGIN:VEVENT
DTSTART;TZID=America/New_York:20241210T090000
DTEND;TZID=America/New_York:20241211T170000
DTSTAMP:20260420T225200
CREATED:20241001T193045Z
LAST-MODIFIED:20241001T193045Z
UID:13479-1733821200-1733936400@vsdvalliance.org
SUMMARY:Basic Advocacy Trainings- DV & SV
DESCRIPTION:DV BAT: This training is designed for advocates in their first year of work in the field of Domestic Violence Advocacy. Participants will be able to identify and define domestic and intimate partner violence; learn the building blocks for a trauma informed response and broaden their understanding of risk assessment and safety planning. Participants will also learn about resources in VA for supporting survivors of domestic and intimate partner violence. \nSV BAT: This training is designed for advocates in their first year of work in the field of Sexual Violence Advocacy. Participants will learn how to recognize sexual violence\, it’s root causes and its impact on individuals and communities; they will learn about the Cultural Context that supports sexual violence and an advocate’s role in changing that culture. Participants will also learn about the building blocks for a healing centered approach to sexual violence and be able to identify resources in Virginia for an effective response. \n*It is highly recommended that new advocates receive both DV and SV Basic Advocacy Training.
URL:https://vsdvalliance.org/event/basic-advocacy-trainings-dv-sv-2/
LOCATION:The Loft\, 76 W Gay Street\, Harrisonburg\, VA\, 22802
CATEGORIES:General Events,Training
END:VEVENT
BEGIN:VEVENT
DTSTART;TZID=America/New_York:20241218T140000
DTEND;TZID=America/New_York:20241218T150000
DTSTAMP:20260420T225200
CREATED:20240605T153556Z
LAST-MODIFIED:20240605T153556Z
UID:12977-1734530400-1734534000@vsdvalliance.org
SUMMARY:Statewide Advocates' Meeting
DESCRIPTION:The Statewide Hotline/Crisis Response Team would like to offer this space as an ongoing opportunity for folx working on the front lines and on the hotlines providing direct services and support! This is a space with opportunities to meet other advocates across VA\, learn more about the Statewide Hotline and Project for Empowerment of Survivors (PES) and to share trends\, highlights\, events\, regional updates\, etc. We look forward to seeing you all every other month in 2024 on the 3rd Wednesday from 2-3p. \nIf you know of other Advocates\, Hotline and/or Direct Services staff that could benefit from joining the space\, please send their contact information to lwhite@vsdvalliance.org. \nNote: We will try to accommodate last minute language translation requests but we typically need two weeks to secure interpretation services.
URL:https://vsdvalliance.org/event/statewide-advocates-meeting-5/
CATEGORIES:General Events,Members,Training
END:VEVENT
END:VCALENDAR