BEGIN:VCALENDAR
VERSION:2.0
PRODID:-//Virginia Sexual &amp; Domestic Violence Action Alliance - ECPv6.15.20//NONSGML v1.0//EN
CALSCALE:GREGORIAN
METHOD:PUBLISH
X-ORIGINAL-URL:https://vsdvalliance.org
X-WR-CALDESC:Events for Virginia Sexual &amp; Domestic Violence Action Alliance
REFRESH-INTERVAL;VALUE=DURATION:PT1H
X-Robots-Tag:noindex
X-PUBLISHED-TTL:PT1H
BEGIN:VTIMEZONE
TZID:America/New_York
BEGIN:DAYLIGHT
TZOFFSETFROM:-0500
TZOFFSETTO:-0400
TZNAME:EDT
DTSTART:20240310T070000
END:DAYLIGHT
BEGIN:STANDARD
TZOFFSETFROM:-0400
TZOFFSETTO:-0500
TZNAME:EST
DTSTART:20241103T060000
END:STANDARD
BEGIN:DAYLIGHT
TZOFFSETFROM:-0500
TZOFFSETTO:-0400
TZNAME:EDT
DTSTART:20250309T070000
END:DAYLIGHT
BEGIN:STANDARD
TZOFFSETFROM:-0400
TZOFFSETTO:-0500
TZNAME:EST
DTSTART:20251102T060000
END:STANDARD
BEGIN:DAYLIGHT
TZOFFSETFROM:-0500
TZOFFSETTO:-0400
TZNAME:EDT
DTSTART:20260308T070000
END:DAYLIGHT
BEGIN:STANDARD
TZOFFSETFROM:-0400
TZOFFSETTO:-0500
TZNAME:EST
DTSTART:20261101T060000
END:STANDARD
END:VTIMEZONE
BEGIN:VEVENT
DTSTART;TZID=America/New_York:20250108T120000
DTEND;TZID=America/New_York:20250108T133000
DTSTAMP:20260422T143149
CREATED:20250102T164031Z
LAST-MODIFIED:20250102T164031Z
UID:13633-1736337600-1736343000@vsdvalliance.org
SUMMARY:I-CAN ECHO: Best Practices Accessible Communication
DESCRIPTION:Extension for Community Health Outcomes or ECHO is a virtual network. Our ECHO will provide professionals with opportunities to learn about supporting survivors of abuse with disabilities and connect with other professionals. \nOur ECHO will be held once a month on Wednesdays from 12:00-1:30 PM. Certificates of participation and CEUs are available. \n\nNovember 13: Disability Etiquette & Respect\nDecember 11: Supporting Survivors who are d/Deaf or Hard of Hearing\nJanuary 15: Best Practices Accessible Communication\nFebruary 12: Disabilities and the Criminal Justice System\nMarch 12 Brain Injury and Abuse\nApril 23: Hot Topic
URL:https://vsdvalliance.org/event/i-can-echo-best-practices-accessible-communication/
LOCATION:Virtual
CATEGORIES:General Events
END:VEVENT
BEGIN:VEVENT
DTSTART;TZID=America/New_York:20250115T103000
DTEND;TZID=America/New_York:20250115T120000
DTSTAMP:20260422T143149
CREATED:20241004T145616Z
LAST-MODIFIED:20241004T145616Z
UID:13499-1736937000-1736942400@vsdvalliance.org
SUMMARY:Violence Prevention in Action ECHO
DESCRIPTION:Join our Violence Prevention in Action ECHO program to build your prevention network\, connect over challenging cases\, and stay on top of best practices in sexual and intimate partner violence primary prevention! \nProject ECHO is an international\, evidence-based model for training and peer-to-peer learning\, originally developed at the University of New Mexico for use by doctors and other medical providers. We’ve used the model since 2019 to cultivate a thriving community of preventionists from Sexual and Domestic Violence Agencies across the Commonwealth. \nFor more information about our use of the ECHO model or the structure of the session\, please visit: https://bit.ly/VPAecho.
URL:https://vsdvalliance.org/event/violence-prevention-in-action-echo-5/
LOCATION:Virtual- Zoom
CATEGORIES:General Events,Online Learning,Training
END:VEVENT
BEGIN:VEVENT
DTSTART;TZID=America/New_York:20250129T140000
DTEND;TZID=America/New_York:20250130T120000
DTSTAMP:20260422T143149
CREATED:20250102T164443Z
LAST-MODIFIED:20250102T164443Z
UID:13635-1738159200-1738238400@vsdvalliance.org
SUMMARY:2025 Day of Action
DESCRIPTION:Calling all advocates from Virginia’s sexual and domestic violence agencies! Join us for our annual DAY OF ACTION in Richmond! We need your voice now more than ever! \nLocal agencies providing life-saving services for victims of sexual assault\, domestic violence\, stalking\, and trafficking are facing a financial crisis like we’ve never seen. Drastic and ongoing cuts to the federal Victims of Crime Act (VOCA) program has resulted in a $22.5 million dollar reduction in awards to Virginia in just the last 5 years (federal fiscal years 2020-2024). The portion of these funds that go to Virginia’s 70+ sexual and domestic violence agencies\, to ensure frontline\, 24/7 crisis response to victims in communities\, has been cut by a whopping 54%\, or $13.5 million dollars\, in the last 5 years alone (state fiscal years 2020-2025). \nAs a result of these ongoing and devastating cuts\, the community safety-net for victims is rapidly eroding. But we can turn this around. Virginia must continue to PUT VICTIMS FIRST. \nIn 2025\, the Virginia Sexual and Domestic Violence Action Alliance is asking policy leaders for $8.25 million in state funding that\, when combined with current state funds and projected VOCA funds\, will restore Virginia to a total of $27.75M/year for sexual and domestic violence services. \nJoin us on January 29th and January 30th as we rally for sustainable\, robust\, and effective responses for victims in our communities! Please see our schedule of events below: \nWednesday January 29th\nThe Women’s Club at the Bolling Haxall House\n211 E. Franklin Street\nRichmond\, VA 23220\nParking lot on-site with overflow street parking \n2pm Registration\n2:30pm Welcome\n2:45pm Legislative Advocacy Primer\n3:30pm Break\n3:45pm Briefing on 2025 Legislative Priorities and talking points\n4:30pm Legislative meeting practice runs\n5pm Happy hour reception for advocates\, with special guests!\n6pm Check into hotels\, get dinner in town\, and get a good night’s sleep! \nThursday January 30th\nGeneral Assembly Building\n201 N. 9th Street\nRichmond\, VA 23219 \n7am – Noon Legislative visits (made in advance with your legislator)\n*Action Alliance staff available throughout the day on 1st floor of General Assembly Building in Cafeteria
URL:https://vsdvalliance.org/event/2025-day-of-action/
LOCATION:The Women’s Club at the Bolling Haxall House\, 211 E. Franklin Street\, Richmond\, VA\, 23220\, United States
CATEGORIES:General Events,Members
END:VEVENT
BEGIN:VEVENT
DTSTART;TZID=America/New_York:20250131T100000
DTEND;TZID=America/New_York:20250131T140000
DTSTAMP:20260422T143149
CREATED:20241004T143831Z
LAST-MODIFIED:20241004T143831Z
UID:13489-1738317600-1738332000@vsdvalliance.org
SUMMARY:VaData Training
DESCRIPTION:Sexual and domestic violence agencies across the state use VAdata to track services and manage their grant reporting. For new staff\, this means there’s a lot to learn about VAdata\, how data is captured\, and how to use data to tell the story of survivors in your area. For advanced users\, there may be more questions about the many reports available or specific questions about how data shows up in those reports. \nAfter this training\, participants will understand more about the history and scope of the VAdata system\, how to use and audit queries to retrieve information\, how to use reports in grant writing\, raising community awareness and more\, and how data entry practices impact data and reporting statewide. Participants are encouraged to bring any and all questions to the training along with their laptops to apply practical tips learned to their own agency’s VAdata account. \nNote: We will try to accommodate last minute language translation requests but we typically need two weeks to secure interpretation services.
URL:https://vsdvalliance.org/event/vadata-training-4/
LOCATION:Charlottesville\, VA
CATEGORIES:General Events,Training
END:VEVENT
END:VCALENDAR