BEGIN:VCALENDAR
VERSION:2.0
PRODID:-//Virginia Sexual &amp; Domestic Violence Action Alliance - ECPv6.15.20//NONSGML v1.0//EN
CALSCALE:GREGORIAN
METHOD:PUBLISH
X-ORIGINAL-URL:https://vsdvalliance.org
X-WR-CALDESC:Events for Virginia Sexual &amp; Domestic Violence Action Alliance
REFRESH-INTERVAL;VALUE=DURATION:PT1H
X-Robots-Tag:noindex
X-PUBLISHED-TTL:PT1H
BEGIN:VTIMEZONE
TZID:America/New_York
BEGIN:DAYLIGHT
TZOFFSETFROM:-0500
TZOFFSETTO:-0400
TZNAME:EDT
DTSTART:20240310T070000
END:DAYLIGHT
BEGIN:STANDARD
TZOFFSETFROM:-0400
TZOFFSETTO:-0500
TZNAME:EST
DTSTART:20241103T060000
END:STANDARD
BEGIN:DAYLIGHT
TZOFFSETFROM:-0500
TZOFFSETTO:-0400
TZNAME:EDT
DTSTART:20250309T070000
END:DAYLIGHT
BEGIN:STANDARD
TZOFFSETFROM:-0400
TZOFFSETTO:-0500
TZNAME:EST
DTSTART:20251102T060000
END:STANDARD
BEGIN:DAYLIGHT
TZOFFSETFROM:-0500
TZOFFSETTO:-0400
TZNAME:EDT
DTSTART:20260308T070000
END:DAYLIGHT
BEGIN:STANDARD
TZOFFSETFROM:-0400
TZOFFSETTO:-0500
TZNAME:EST
DTSTART:20261101T060000
END:STANDARD
END:VTIMEZONE
BEGIN:VEVENT
DTSTART;TZID=America/New_York:20250604T140000
DTEND;TZID=America/New_York:20250604T150000
DTSTAMP:20260422T072434
CREATED:20250123T195034Z
LAST-MODIFIED:20250123T195034Z
UID:13721-1749045600-1749049200@vsdvalliance.org
SUMMARY:Directors' Virtual Meet Up
DESCRIPTION:The Statewide Hotline/Crisis Response Team would like to offer this space as an ongoing opportunity to increase partnership\, learn more about the needs at agencies\, have a place to share and learn more about Statewide Hotline operations\, and to provide the space for folx to discuss challenges\, highlights\, regional updates\, trends\, etc. We look forward to seeing you all every other month in 2025 (February\, April\, June\, August\, October and December) on the 1st Wednesday from 2-3p! \nNote: We will try to accommodate last minute language translation requests but we typically need two weeks to secure interpretation services.
URL:https://vsdvalliance.org/event/directors-virtual-meet-up-8/
LOCATION:Virtual- Zoom
END:VEVENT
BEGIN:VEVENT
DTSTART;TZID=America/New_York:20250609T100000
DTEND;TZID=America/New_York:20250609T120000
DTSTAMP:20260422T072434
CREATED:20250529T144734Z
LAST-MODIFIED:20250529T144734Z
UID:14480-1749463200-1749470400@vsdvalliance.org
SUMMARY:Supporting Immigrant Survivors Webinar
DESCRIPTION:The Action Alliance is hosting staff from The Tahirih Justice Center\, a national nonprofit organization serving immigrant survivors of violence\, to present information on supporting and safety planning with survivors who are immigrants in our current environment.
URL:https://vsdvalliance.org/event/supporting-immigrant-survivors-webinar/
LOCATION:Virtual- Zoom
CATEGORIES:General Events,Members,Training
END:VEVENT
BEGIN:VEVENT
DTSTART;TZID=America/New_York:20250611T120000
DTEND;TZID=America/New_York:20250611T140000
DTSTAMP:20260422T072434
CREATED:20250529T144859Z
LAST-MODIFIED:20250529T144859Z
UID:14482-1749643200-1749650400@vsdvalliance.org
SUMMARY:Supporting Immigrant Survivors Webinar
DESCRIPTION:The Action Alliance is hosting staff from The Tahirih Justice Center\, a national nonprofit organization serving immigrant survivors of violence\, to present information on supporting and safety planning with survivors who are immigrants in our current environment.
URL:https://vsdvalliance.org/event/supporting-immigrant-survivors-webinar-2/
LOCATION:Virtual- Zoom
CATEGORIES:General Events,Members,Online Learning,Training
END:VEVENT
BEGIN:VEVENT
DTSTART;TZID=America/New_York:20250612T103000
DTEND;TZID=America/New_York:20250612T150000
DTSTAMP:20260422T072434
CREATED:20250529T145223Z
LAST-MODIFIED:20250529T145223Z
UID:14484-1749724200-1749740400@vsdvalliance.org
SUMMARY:Future of 24/7 Services: Regional Meeting (Hampton)
DESCRIPTION:In 2023\, after two years of working with all of you\, the Action Alliance released Sustaining the Movement\, a 10-Year Plan for Virginia’s Sexual and Domestic Violence Programs. This document is now guiding our work internally\, and with legislators\, funders\, and all of you. The VOCA funding crisis made the value of this road map clear to all of us: it requires dedicated strategy and action to ensure that all corners of Virginia continue to benefit from effective sexual and domestic violence services and prevention initiatives. \nOne of the first actions described in the plan is to: Develop an updated description of the work of SDVAs that recognizes how services and programs will continue to evolve in response to community needs as well as wider influences. \nWe know more now about trauma\, healing\, and prevention than we did 30 years ago\, and it has changed our work—and we can expect that knowledge to continue to evolve. Technology has expanded our opportunities to connect—and has cranked up the pace of our work. No doubt there are technological changes on the horizon that we have yet to imagine. The roots of our work\, which are deeply intertwined with movements for equality and justice have held strong\, and we have also been called upon to expand our thinking about how we build upon those roots. Still\, we have never wavered from the commitment to serve ALL survivors. \nWe are going to begin our work on this BIG objective (an updated description of the work of SDVAs) with regional conversations about the future of 24/7 services delivery. There are no preconceived ideas about where this conversation will take us. We plan to create a space where you can ask all the “what if” questions that are on your mind. We hope to hear differing perspectives offered with both passion and respect for differences. Importantly\, we believe that the outcome must come from the field collectively\, and not from a small committee or a funding agency\, and so we are hoping that ALL of our member agencies can participate or send a representative to at least one of these conversations. \n*If you register and are unable to attend\, please consider sending a representative in your stead. Email the change to training@vsdvalliance.org \nRegistration for this event closes June 6th.
URL:https://vsdvalliance.org/event/future-of-24-7-services-regional-meeting-hampton/
LOCATION:Emmanuel Episcopal Church\, 179 E Mercury Blvd\, Hampton\, VA 23669\, 179 E Mercury Blvd\, Hampton\, VA\, 23669\, United States
CATEGORIES:General Events,Members,SDVA Members Only
END:VEVENT
BEGIN:VEVENT
DTSTART;TZID=America/New_York:20250618T140000
DTEND;TZID=America/New_York:20250618T150000
DTSTAMP:20260422T072434
CREATED:20250123T200443Z
LAST-MODIFIED:20250123T200443Z
UID:13733-1750255200-1750258800@vsdvalliance.org
SUMMARY:Statewide Advocates' Meeting
DESCRIPTION:The Statewide Hotline/Crisis Response Team would like to offer this space as an ongoing opportunity for folx working on the front lines and on the hotlines providing direct services and support! This is a space with opportunities to meet other advocates across VA\, learn more about the Statewide Hotline and Project for Empowerment of Survivors (PES) and to share trends\, highlights\, events\, regional updates\, etc. We look forward to seeing you all every other month in 2025 on the 3rd Wednesday from 2-3p. \nIf you know of other Advocates\, Hotline and/or Direct Services staff that could benefit from joining the space\, please send their contact information to lwhite@vsdvalliance.org. \nNote: We will try to accommodate last minute language translation requests but we typically need two weeks to secure interpretation services.
URL:https://vsdvalliance.org/event/statewide-advocates-meeting-8/
LOCATION:Virtual- Zoom
CATEGORIES:General Events,Members
END:VEVENT
BEGIN:VEVENT
DTSTART;TZID=America/New_York:20250624T080000
DTEND;TZID=America/New_York:20250624T170000
DTSTAMP:20260422T072434
CREATED:20250220T211927Z
LAST-MODIFIED:20250220T211927Z
UID:13911-1750752000-1750784400@vsdvalliance.org
SUMMARY:VAdata Office Hours
DESCRIPTION:Drop in (virtually) any time between 3:00 and 4:30 to ask us your VAdata related questions.
URL:https://vsdvalliance.org/event/vadata-office-hours-5/
CATEGORIES:General Events,Members,Training
END:VEVENT
BEGIN:VEVENT
DTSTART;TZID=America/New_York:20250624T100000
DTEND;TZID=America/New_York:20250624T150000
DTSTAMP:20260422T072434
CREATED:20250529T150208Z
LAST-MODIFIED:20250529T150208Z
UID:14487-1750759200-1750777200@vsdvalliance.org
SUMMARY:Prevention Gathering
DESCRIPTION:Join us June 24th from 10a to 3p for a day of connection and all things prevention. This gathering will focus on innovation in prevention programming from folks here in Virginia! There will be time for small group discussion\, skill-sharing\, and hearing from others in the field. Unfortunately\, lunch will not be provided but we will allow ample time for lunch and breaks throughout the day. \n*This gathering is specifically for those doing prevention work at their agencies*
URL:https://vsdvalliance.org/event/prevention-gathering-2/
LOCATION:VDSS Office\, 5600 Cox Rd. Glen Allen\, VA\, 5600 Cox Rd\, Glen Allen\, VA\, 23060\, United States
CATEGORIES:General Events,Members
END:VEVENT
END:VCALENDAR