BEGIN:VCALENDAR
VERSION:2.0
PRODID:-//Virginia Sexual &amp; Domestic Violence Action Alliance - ECPv6.15.20//NONSGML v1.0//EN
CALSCALE:GREGORIAN
METHOD:PUBLISH
X-WR-CALNAME:Virginia Sexual &amp; Domestic Violence Action Alliance
X-ORIGINAL-URL:https://vsdvalliance.org
X-WR-CALDESC:Events for Virginia Sexual &amp; Domestic Violence Action Alliance
REFRESH-INTERVAL;VALUE=DURATION:PT1H
X-Robots-Tag:noindex
X-PUBLISHED-TTL:PT1H
BEGIN:VTIMEZONE
TZID:America/New_York
BEGIN:DAYLIGHT
TZOFFSETFROM:-0500
TZOFFSETTO:-0400
TZNAME:EDT
DTSTART:20240310T070000
END:DAYLIGHT
BEGIN:STANDARD
TZOFFSETFROM:-0400
TZOFFSETTO:-0500
TZNAME:EST
DTSTART:20241103T060000
END:STANDARD
BEGIN:DAYLIGHT
TZOFFSETFROM:-0500
TZOFFSETTO:-0400
TZNAME:EDT
DTSTART:20250309T070000
END:DAYLIGHT
BEGIN:STANDARD
TZOFFSETFROM:-0400
TZOFFSETTO:-0500
TZNAME:EST
DTSTART:20251102T060000
END:STANDARD
BEGIN:DAYLIGHT
TZOFFSETFROM:-0500
TZOFFSETTO:-0400
TZNAME:EDT
DTSTART:20260308T070000
END:DAYLIGHT
BEGIN:STANDARD
TZOFFSETFROM:-0400
TZOFFSETTO:-0500
TZNAME:EST
DTSTART:20261101T060000
END:STANDARD
END:VTIMEZONE
BEGIN:VEVENT
DTSTART;TZID=America/New_York:20250902T103000
DTEND;TZID=America/New_York:20250902T150000
DTSTAMP:20260421T054202
CREATED:20250529T154054Z
LAST-MODIFIED:20250529T154054Z
UID:14501-1756809000-1756825200@vsdvalliance.org
SUMMARY:Future of 24/7 Services: Regional Conversation (Harrisonburg)
DESCRIPTION:In 2023\, after two years of working with all of you\, the Action Alliance released Sustaining the Movement\, a 10-Year Plan for Virginia’s Sexual and Domestic Violence Programs. This document is now guiding our work internally\, and with legislators\, funders\, and all of you. The VOCA funding crisis made the value of this road map clear to all of us: it requires dedicated strategy and action to ensure that all corners of Virginia continue to benefit from effective sexual and domestic violence services and prevention initiatives. \nOne of the first actions described in the plan is to: Develop an updated description of the work of SDVAs that recognizes how services and programs will continue to evolve in response to community needs as well as wider influences. \nWe know more now about trauma\, healing\, and prevention than we did 30 years ago\, and it has changed our work—and we can expect that knowledge to continue to evolve. Technology has expanded our opportunities to connect—and has cranked up the pace of our work. No doubt there are technological changes on the horizon that we have yet to imagine. The roots of our work\, which are deeply intertwined with movements for equality and justice have held strong\, and we have also been called upon to expand our thinking about how we build upon those roots. Still\, we have never wavered from the commitment to serve ALL survivors. \nWe are going to begin our work on this BIG objective (an updated description of the work of SDVAs) with regional conversations about the future of 24/7 services delivery. There are no preconceived ideas about where this conversation will take us. We plan to create a space where you can ask all the “what if” questions that are on your mind. We hope to hear differing perspectives offered with both passion and respect for differences. Importantly\, we believe that the outcome must come from the field collectively\, and not from a small committee or a funding agency\, and so we are hoping that ALL of our member agencies can participate or send a representative to at least one of these conversations. \n*If you register and are unable to attend\, please consider sending a representative in your stead. Email the change to training@vsdvalliance.org \nRegistration for this event closes Aug 27th.
URL:https://vsdvalliance.org/event/future-of-24-7-services-regional-conversation-harrisonburg/
LOCATION:Harrisonburg\, VA\, Harrisonburg\, VA\, United States
CATEGORIES:General Events,Members,SDVA Members Only
END:VEVENT
BEGIN:VEVENT
DTSTART;TZID=America/New_York:20250903T130000
DTEND;TZID=America/New_York:20250903T143000
DTSTAMP:20260421T054202
CREATED:20250122T143524Z
LAST-MODIFIED:20250122T143524Z
UID:13713-1756904400-1756909800@vsdvalliance.org
SUMMARY:Emergence Virtual Organizational Session
DESCRIPTION:Wellness and impact – at the individual\, organizational\, and community levels – are essential\, aspirational\, and challenging. It’s easy to dismiss them as impossible\, luxuries that we don’t have time for in the chaos of our crisis-oriented work. BUT… WHAT IF? \nWhat if we valued our own health and potential in the same way we pursue freedom and thriving for those harmed by violence? What if articulate a human right to connection and sustainability? What if we break down big concepts like wellness and impact) into manageable components – stance\, breath\, pace\, moral compass\, strategy\, relationship – and practice as if our lives depend on it? What if we take time to dream big\, rest\, laugh\, and love? \nPeople in our communities need us to be well and to conjure impact. 2025 is a year for us to GO bold and GO together. Emergence offers opportunities for SA/DV leaders and teams to join in virtual and in-person gatherings that will normalize wellness and exponentially increase our impact in VA with the people who need us most.
URL:https://vsdvalliance.org/event/emergence-virtual-organizational-session-2/
LOCATION:Virtual
CATEGORIES:General Events,Members,Training
END:VEVENT
BEGIN:VEVENT
DTSTART;VALUE=DATE:20250908
DTEND;VALUE=DATE:20250911
DTSTAMP:20260421T054202
CREATED:20250122T143852Z
LAST-MODIFIED:20250604T132753Z
UID:13715-1757289600-1757548799@vsdvalliance.org
SUMMARY:Emergence In-Person Retreat
DESCRIPTION:This final Emergence gathering will focus on strengthening relationships\, expertise\, and collective power for healing-centered transformation. We will learn about moving from reacting to the crisis of burnout towards the healing-centered capacity to prevent it and build muscle to create robust practices for sustained wholeness\, connection\, and power.
URL:https://vsdvalliance.org/event/emergence-in-person-retreat-2/
LOCATION:Roanoke\, VA\, VA\, United States
CATEGORIES:General Events,Members,Training
END:VEVENT
BEGIN:VEVENT
DTSTART;TZID=America/New_York:20250924T110000
DTEND;TZID=America/New_York:20250924T113000
DTSTAMP:20260421T054202
CREATED:20250904T140707Z
LAST-MODIFIED:20250904T140707Z
UID:14751-1758711600-1758713400@vsdvalliance.org
SUMMARY:Introducing Families Thrive VA
DESCRIPTION:When families thrive\, everyone succeeds. Join us for the launch of our Families Thrive VA project\, a guide to making workplaces more family-friendly through policies\, practices\, and benefits that allow employees to more easily balance their work life with their family responsibilities. We will discuss the formation of the guide\, the connection between violence and economic security\, and how you can bring these tools into your agency!
URL:https://vsdvalliance.org/event/introducing-families-thrive-va/
LOCATION:Virtual- Zoom
ORGANIZER;CN="Prevention Team":MAILTO:prevention@vsdvalliance.org
END:VEVENT
END:VCALENDAR